BEGIN:VCALENDAR
VERSION:2.0
PRODID:-//eventon.com NONSGML v1.0//EN
CALSCALE:GREGORIAN
METHOD:PUBLISH
BEGIN:VEVENT
UID:69e4e5373f8c3
DTSTAMP:20260419T142247Z
DTSTART:20251213T112300Z
DTEND:20251213T112300Z
LOCATION:
SUMMARY:oliebollen toernooi
DESCRIPTION:oliebollen toernooi\nhttps://www.ballangrudbreda.nl/events/olie
 bollen-toernooi/
URL:https://www.ballangrudbreda.nl/events/oliebollen-toernooi/
END:VEVENT
END:VCALENDAR